BEGIN:VCALENDAR
VERSION:2.0
PRODID:-//ChamberMaster//Event Calendar 2.0//EN
METHOD:PUBLISH
X-PUBLISHED-TTL:P3D
REFRESH-INTERVAL:P3D
CALSCALE:GREGORIAN
BEGIN:VEVENT
DTSTART:20251124T233000Z
DTEND:20251125T010000Z
X-MICROSOFT-CDO-ALLDAYEVENT:FALSE
SUMMARY:Young Professionals Networking
DESCRIPTION:Professional networking for ages 21 - 43!  Meet up at The Parkway Grill at the Marriott Suites Deerfield Hotel for complimentary light appetizers\, conversation\, and ideas for 2026 events. Cash bar. Registration is required.
X-ALT-DESC;FMTTYPE=text/html:Professional networking for ages 21 - 43!&nbsp\; Meet up at The Parkway Grill at the Marriott Suites Deerfield Hotel for complimentary light appetizers\, conversation\, and ideas for 2026 events. Cash bar. Registration is required.
LOCATION:Marriott Suites Deerfield - Parkway Grill 2 Parkway N.\, Deerfield IL
UID:e.355.4761
SEQUENCE:3
DTSTAMP:20260424T201142Z
URL:https://business.northbrookchamber.org/events/details/young-professionals-networking-4761
END:VEVENT

END:VCALENDAR
