BEGIN:VCALENDAR
VERSION:2.0
PRODID:-//ChamberMaster//Event Calendar 2.0//EN
METHOD:PUBLISH
X-PUBLISHED-TTL:P3D
REFRESH-INTERVAL:P3D
CALSCALE:GREGORIAN
BEGIN:VEVENT
DTSTART:20080115T174500Z
DTEND:20080115T191500Z
X-MICROSOFT-CDO-ALLDAYEVENT:FALSE
SUMMARY:Women's Roundtable: Women's Roundtable - January 2008
DESCRIPTION:Women of the Chamber and guests are invited to attend this informal lunch program to network and hear 'infomercials'  from a pair of Chamber members.  This month's presenters include Michelle Mangaoubi\, American Cancer Society and Karen Larsen\, Order My Gift.  To register your attendance call the Chamber office at (847)498-5555 ext. 201
X-ALT-DESC;FMTTYPE=text/html:Women of the Chamber and guests are invited to attend this informal lunch program to network and hear 'infomercials'  from a pair of Chamber members.  This month's presenters include Michelle Mangaoubi\, American Cancer Society and Karen Larsen\, Order My Gift.  To register your attendance call the Chamber office at (847)498-5555 ext. 201\n\n
LOCATION:
UID:e.355.302
SEQUENCE:3
DTSTAMP:20260425T025751Z
URL:https://business.northbrookchamber.org/events/details/women-s-roundtable-women-s-roundtable-january-2008-01-15-2008-302
END:VEVENT

END:VCALENDAR
