BEGIN:VCALENDAR
VERSION:2.0
PRODID:-//ChamberMaster//Event Calendar 2.0//EN
METHOD:PUBLISH
X-PUBLISHED-TTL:P3D
REFRESH-INTERVAL:P3D
CALSCALE:GREGORIAN
BEGIN:VEVENT
DTSTART:20080219T174500Z
DTEND:20080219T191500Z
X-MICROSOFT-CDO-ALLDAYEVENT:FALSE
SUMMARY:Women's Roundtable: February 2008 women's Roundtable
DESCRIPTION:Join women members of the Chamber at a special multi-chamber Roundtable lunch program at The Palm Restaurant  featuring women's business fashions from Northbrook Court.  Other Chambers participating include DBR\, Glencoe\, Glenview\, Highland Park\, Northfield and Lincolnshire.     Charge is $25 in advance or $30 at the door.  To make a reservation or for more information call (847)498-5555 ext. 204.
X-ALT-DESC;FMTTYPE=text/html:Join women members of the Chamber at a special multi-chamber Roundtable lunch program at The Palm Restaurant  featuring women's business fashions from Northbrook Court.  Other Chambers participating include DBR\, Glencoe\, Glenview\, Highland Park\, Northfield and Lincolnshire.     Charge is $25 in advance or $30 at the door.  To make a reservation or for more information call (847)498-5555 ext. 204.
LOCATION:
UID:e.355.307
SEQUENCE:3
DTSTAMP:20260425T013941Z
URL:https://business.northbrookchamber.org/events/details/women-s-roundtable-february-2008-women-s-roundtable-02-19-2008-307
END:VEVENT

END:VCALENDAR
