BEGIN:VCALENDAR
VERSION:2.0
PRODID:-//ChamberMaster//Event Calendar 2.0//EN
METHOD:PUBLISH
X-PUBLISHED-TTL:P3D
REFRESH-INTERVAL:P3D
CALSCALE:GREGORIAN
BEGIN:VEVENT
DTSTART:20070417T164500Z
DTEND:20070417T181500Z
X-MICROSOFT-CDO-ALLDAYEVENT:FALSE
SUMMARY:Women's Roundtable: April 2007 Women's Roundtable
DESCRIPTION:A reinvigorated Women's Roundtable program gets underway this month\, with a new and improved format set around an informal lunch setting.   All women members of the Chamber are invited to attend these informative lunch sessions that will feature an "infomercial" from a pair of fellow Chamber members.   The program is designed to help women Chamber members connect with their colleagues and to learn more about each other's businesses.  Following the presentation\, participants will conduct a roundtable discussion designed to allow them to network and discuss their business successes and challenges. To officially launch the program\, Kate Bush\, catering manager for Corner Bakery\, a European style bakery-café will give an overview of her business and highlight her responsibilities.  Wendy Peterson will also discuss the Interior Investments products and services.   No charge to bring lunch\; $6 catered lunch (must be ordered in advance)
X-ALT-DESC;FMTTYPE=text/html:A reinvigorated Women's Roundtable program gets underway this month\, with a new and improved format set around an informal lunch setting.   All women members of the Chamber are invited to attend these informative lunch sessions that will feature an "infomercial" from a pair of fellow Chamber members.   The program is designed to help women Chamber members connect with their colleagues and to learn more about each other's businesses.  Following the presentation\, participants will conduct a roundtable discussion designed to allow them to network and discuss their business successes and challenges. To officially launch the program\, Kate Bush\, catering manager for Corner Bakery\, a European style bakery-café will give an overview of her business and highlight her responsibilities.  Wendy Peterson will also discuss the Interior Investments products and services.   No charge to bring lunch\; $6 catered lunch (must be ordered in advance)
LOCATION:
UID:e.355.244
SEQUENCE:3
DTSTAMP:20260425T134152Z
URL:https://business.northbrookchamber.org/events/details/women-s-roundtable-april-2007-women-s-roundtable-04-17-2007-244
END:VEVENT

END:VCALENDAR
