BEGIN:VCALENDAR
VERSION:2.0
PRODID:-//ChamberMaster//Event Calendar 2.0//EN
METHOD:PUBLISH
X-PUBLISHED-TTL:P3D
REFRESH-INTERVAL:P3D
CALSCALE:GREGORIAN
BEGIN:VEVENT
DTSTART:20070612T164500Z
DTEND:20070612T181500Z
X-MICROSOFT-CDO-ALLDAYEVENT:FALSE
SUMMARY:Women's Roundtable
DESCRIPTION:The Women's Roundtable lunch group meets this month\, featuring a pair of women Chamber members who will give a brief "infomercial" about their business at an informal lunch setting.  This month Gigi Verey\, GCG Financial will give an overview of her business products and services along with Lise Schleicher\, BasketWorks\, who will also showcase several items from her product line.   All women members of the Chamber are invited to attend these informative lunch sessions to network and share experiences.  The program is designed to help women Chamber members connect with their colleagues and to learn more about each other's businesses.  Following the presentation\, participants will conduct a roundtable discussion designed to allow them to network and discuss their business successes and challenges.    No charge to bring lunch\; $6 catered lunch (must be ordered in advance)
X-ALT-DESC;FMTTYPE=text/html:The Women's Roundtable lunch group meets this month\, featuring a pair of women Chamber members who will give a brief "infomercial" about their business at an informal lunch setting.  This month Gigi Verey\, GCG Financial will give an overview of her business products and services along with Lise Schleicher\, BasketWorks\, who will also showcase several items from her product line.   All women members of the Chamber are invited to attend these informative lunch sessions to network and share experiences.  The program is designed to help women Chamber members connect with their colleagues and to learn more about each other's businesses.  Following the presentation\, participants will conduct a roundtable discussion designed to allow them to network and discuss their business successes and challenges.    No charge to bring lunch\; $6 catered lunch (must be ordered in advance)
LOCATION:
UID:e.355.255
SEQUENCE:3
DTSTAMP:20260425T111453Z
URL:https://business.northbrookchamber.org/events/details/women-s-roundtable-06-12-2007-255
END:VEVENT

END:VCALENDAR
