BEGIN:VCALENDAR
VERSION:2.0
PRODID:-//ChamberMaster//Event Calendar 2.0//EN
METHOD:PUBLISH
X-PUBLISHED-TTL:P3D
REFRESH-INTERVAL:P3D
CALSCALE:GREGORIAN
BEGIN:VEVENT
DTSTART:20080717T163000Z
DTEND:20080717T180000Z
X-MICROSOFT-CDO-ALLDAYEVENT:FALSE
SUMMARY:Women's Networking Lunch & Fashion Show
DESCRIPTION:Women's Networking Lunch & Fashion Showhosted by the Deerfield\, Riverwoods\, Bannockburn Chamber Join women from the Northbrook\, DBR and Northfield Chambers for an informal networking lunch and Fashion Show showcasing the latest contemporary clothing from Steinmart\, The Men's Wearhouse\, Hannah K\, Rust and Betty Schwartz\, featuring both male and female professionals. Bring plenty of business cards for networking\, raffle prizes and giveaways.
X-ALT-DESC;FMTTYPE=text/html:<div><font size="2">Women's Networking Lunch &amp\; Fashion Show</font></div><div><font size="2">hosted by the Deerfield\, Riverwoods\, Bannockburn Chamber</font></div><div>&nbsp\;</div><div><span style="font-size: 12pt"><font size="2">Join women from the Northbrook\, DBR and Northfield Chambers for an informal networking lunch and Fashion Show showcasing the latest contemporary clothing from Steinmart\, The Men&rsquo\;s Wearhouse\, Hannah K\, Rust and Betty Schwartz\, featuring both male and female professionals.&nbsp\;Bring plenty of business cards for networking\, raffle prizes and giveaways.</font></span></div>
LOCATION:Patty Turner Senior Center375 Elm St.\, Deerfield
UID:e.355.735
SEQUENCE:3
DTSTAMP:20260424T200232Z
URL:https://business.northbrookchamber.org/events/details/women-s-networking-lunch-fashion-show-07-17-2008-735
END:VEVENT

END:VCALENDAR
