BEGIN:VCALENDAR
VERSION:2.0
PRODID:-//ChamberMaster//Event Calendar 2.0//EN
METHOD:PUBLISH
X-PUBLISHED-TTL:P3D
REFRESH-INTERVAL:P3D
CALSCALE:GREGORIAN
BEGIN:VEVENT
DTSTART:20080916T164500Z
DTEND:20080916T181500Z
X-MICROSOFT-CDO-ALLDAYEVENT:FALSE
SUMMARY:Women in Business Roundtable Lunch
DESCRIPTION:Women of the Chamber and guests are invited to attend this informal networking lunch to hear a pair of 'infomercials' from two Chamber members.  This month's presenters will be Lise Schleicher\, BasketWorks and Jeanine Buck\, BankFinancial.
X-ALT-DESC;FMTTYPE=text/html:<div>Women of the Chamber and guests are invited to attend this informal networking lunch to hear a pair of 'infomercials' from two Chamber members.&nbsp\; This month's presenters will be Lise Schleicher\, BasketWorks and Jeanine Buck\, BankFinancial.&nbsp\;</div>
LOCATION:Northbrook Chamber of Commerce office\, 2002 Walters Ave.\, Northbrook
UID:e.355.759
SEQUENCE:3
DTSTAMP:20260424T175220Z
URL:https://business.northbrookchamber.org/events/details/women-in-business-roundtable-lunch-09-16-2008-759
END:VEVENT

END:VCALENDAR
