BEGIN:VCALENDAR
VERSION:2.0
PRODID:-//ChamberMaster//Event Calendar 2.0//EN
METHOD:PUBLISH
X-PUBLISHED-TTL:P3D
REFRESH-INTERVAL:P3D
CALSCALE:GREGORIAN
BEGIN:VEVENT
DTSTART:20090120T174500Z
DTEND:20090120T191500Z
X-MICROSOFT-CDO-ALLDAYEVENT:FALSE
SUMMARY:Women in Business Roundtable Lunch
DESCRIPTION:Join women of the Chamber in an informal roundtable discussion to hear informercials from Beverly Chana\, Gray Hair Management and Michelle Chiara\, Deerfield Dental Care.
X-ALT-DESC;FMTTYPE=text/html:<div>Join women of the Chamber in an informal roundtable discussion to hear informercials from Beverly Chana\, Gray Hair Management and Michelle Chiara\, Deerfield Dental Care.</div>
LOCATION:Northbrook Chamber office
UID:e.355.768
SEQUENCE:3
DTSTAMP:20260424T124626Z
URL:https://business.northbrookchamber.org/events/details/women-in-business-roundtable-lunch-01-20-2009-768
END:VEVENT

END:VCALENDAR
