BEGIN:VCALENDAR
VERSION:2.0
PRODID:-//ChamberMaster//Event Calendar 2.0//EN
METHOD:PUBLISH
X-PUBLISHED-TTL:P3D
REFRESH-INTERVAL:P3D
CALSCALE:GREGORIAN
BEGIN:VEVENT
DTSTART:20090526T164500Z
DTEND:20090526T181500Z
X-MICROSOFT-CDO-ALLDAYEVENT:FALSE
SUMMARY:Women in Business Roundtable (5/26)
DESCRIPTION:Women in Business Rountable\nTuesday\, May 26\n\nWomen of the Chamber are invited to attend this informal lunch program to network and to hear "infomercials" from member colleagues Jerri Beers\, Arden Court Alzheimers Assisted Living and Marilyn Zilka\, Ehlert Financial Group.
X-ALT-DESC;FMTTYPE=text/html:<div><strong><font size="2">Women in Business Rountable<br />Tuesday\, May 26</font></strong><br /><br />Women of the Chamber are invited to attend this informal lunch program to network and to hear &quot\;infomercials&quot\; from member colleagues Jerri Beers\, Arden Court Alzheimers Assisted Living and Marilyn Zilka\,&nbsp\;Ehlert Financial Group.&nbsp\;</div>
LOCATION:Chamber Office2002 Walters Ave.
UID:e.355.1207
SEQUENCE:3
DTSTAMP:20260424T081719Z
URL:https://business.northbrookchamber.org/events/details/women-in-business-roundtable-5-26-05-26-2009-1207
END:VEVENT

END:VCALENDAR
