BEGIN:VCALENDAR
VERSION:2.0
PRODID:-//ChamberMaster//Event Calendar 2.0//EN
METHOD:PUBLISH
X-PUBLISHED-TTL:P3D
REFRESH-INTERVAL:P3D
CALSCALE:GREGORIAN
BEGIN:VEVENT
DTSTART:20081119T054500Z
DTEND:20081118T191500Z
X-MICROSOFT-CDO-ALLDAYEVENT:FALSE
SUMMARY:Women in Business Roundtable
DESCRIPTION:All women of the chamber are invited to attend this informal lunch program to network and hear 'infomercials' from a pair of Chamber members. This month's presenters will be Ashley Delaney\, Whitehall of Deerfield and Karen Larsen\, Order My Gift\, who will discuss what is unique to their business and what challenges and opportunities they face.
X-ALT-DESC;FMTTYPE=text/html:<p align="justify"><font size="2">All women of the chamber are invited to attend this informal lunch program to network and hear &lsquo\;infomercials&rsquo\; from a pair of Chamber members.&nbsp\;This month&rsquo\;s presenters will be Ashley Delaney\, Whitehall of Deerfield and Karen Larsen\, Order My Gift\, who will discuss what is unique to their business and what challenges and opportunities they face.</font></p>
LOCATION:Northbrook Chamber Office2002 Walters Avenue
UID:e.355.761
SEQUENCE:3
DTSTAMP:20260424T152121Z
URL:https://business.northbrookchamber.org/events/details/women-in-business-roundtable-11-18-2008-761
END:VEVENT

END:VCALENDAR
