BEGIN:VCALENDAR
VERSION:2.0
PRODID:-//ChamberMaster//Event Calendar 2.0//EN
METHOD:PUBLISH
X-PUBLISHED-TTL:P3D
REFRESH-INTERVAL:P3D
CALSCALE:GREGORIAN
BEGIN:VEVENT
DTSTART:20090915T164500Z
DTEND:20090915T181500Z
X-MICROSOFT-CDO-ALLDAYEVENT:FALSE
SUMMARY:Women in Business Roundtable
DESCRIPTION:Women of the Chamber are invited to attend this informal luncheon to network and hear 'infomercials' from Dawn McAnaney\, Garvey's Office Products and Barb Flanagin\, PROforma North Shore Marketing.
X-ALT-DESC;FMTTYPE=text/html:<div><span lang="EN"><p align="justify"><span style="font-size: small"><span style="font-family: Arial">Women of the Chamber are invited to attend this informal luncheon to network and hear &lsquo\;infomercials&rsquo\; from Dawn McAnaney\, Garvey&rsquo\;s Office Products and Barb Flanagin\, PROforma North Shore Marketing. </span></span></p></span></div>
LOCATION:Chamber Office2002 Walters Ave.
UID:e.355.1237
SEQUENCE:3
DTSTAMP:20260422T170432Z
URL:https://business.northbrookchamber.org/events/details/women-in-business-roundtable-09-15-2009-1237
END:VEVENT

END:VCALENDAR
