BEGIN:VCALENDAR
VERSION:2.0
PRODID:-//ChamberMaster//Event Calendar 2.0//EN
METHOD:PUBLISH
X-PUBLISHED-TTL:P3D
REFRESH-INTERVAL:P3D
CALSCALE:GREGORIAN
BEGIN:VEVENT
DTSTART:20080520T164500Z
DTEND:20080520T181500Z
X-MICROSOFT-CDO-ALLDAYEVENT:FALSE
SUMMARY:Women In Business Roundtable
DESCRIPTION:Women of the Chamber are invited to this inform lunch to discuss their challenges and successes in the business world and to hear "infommercials" from fellow members\, Marilyn Zilka\, Elhert Financial and Iris Marreck\, Iris B. Communications
X-ALT-DESC;FMTTYPE=text/html:<div>Women of the Chamber are invited to this inform lunch to discuss their challenges and successes in the business world and to hear &quot\;infommercials&quot\; from fellow members\, Marilyn Zilka\, Elhert Financial and Iris Marreck\, Iris B. Communications</div>
LOCATION:Northbrook Chamber office2002 Walters Ave.
UID:e.355.717
SEQUENCE:3
DTSTAMP:20260424T221037Z
URL:https://business.northbrookchamber.org/events/details/women-in-business-roundtable-05-20-2008-717
END:VEVENT

END:VCALENDAR
