BEGIN:VCALENDAR
VERSION:2.0
PRODID:-//ChamberMaster//Event Calendar 2.0//EN
METHOD:PUBLISH
X-PUBLISHED-TTL:P3D
REFRESH-INTERVAL:P3D
CALSCALE:GREGORIAN
BEGIN:VEVENT
DTSTART:20100316T164500Z
DTEND:20100316T181500Z
X-MICROSOFT-CDO-ALLDAYEVENT:FALSE
SUMMARY:Women in Business Roundtable
DESCRIPTION:All women of the Chamber are invited to attend this informal lunch program to network and hear 'infomercials' from a pair of Chamber members. This month's presenters will be Marsha Schwartz\, Coldwell Banker and Lizzie Flink\, Strength Time\, who will give an overview of their businesses and the challenges and opportunities they face.
X-ALT-DESC;FMTTYPE=text/html:<div><div style="margin: 0in 9pt 0pt 0in"><span style="font-size: small"><span style="font-family: Arial">All women of the Chamber are invited to attend this informal lunch program to network and hear &lsquo\;infomercials&rsquo\; from a pair of Chamber members.&nbsp\;This month&rsquo\;s presenters will be Marsha Schwartz\, Coldwell Banker and Lizzie Flink\, Strength Time\, who will give an overview of their businesses and the challenges and opportunities they face.</span></span></div></div>
LOCATION:Chamber Office2002 Walters Ave.
UID:e.355.1265
SEQUENCE:3
DTSTAMP:20260420T081038Z
URL:https://business.northbrookchamber.org/events/details/women-in-business-roundtable-03-16-2010-1265
END:VEVENT

END:VCALENDAR
