BEGIN:VCALENDAR
VERSION:2.0
PRODID:-//ChamberMaster//Event Calendar 2.0//EN
METHOD:PUBLISH
X-PUBLISHED-TTL:P3D
REFRESH-INTERVAL:P3D
CALSCALE:GREGORIAN
BEGIN:VEVENT
DTSTART:20100119T174500Z
DTEND:20100119T191500Z
X-MICROSOFT-CDO-ALLDAYEVENT:FALSE
SUMMARY:Women in Business Roundtable
DESCRIPTION:Women of the Chamber are invited to attend this informal lunch program to network and hear 'infomercials' from a pair of Chamber members. This month's presenters\, Beverly Bloom\, Bloomin Books and Wendy Lynch\, AA Service\, will discuss what is unique to their business\, and the challenges and opportunities they face.
X-ALT-DESC;FMTTYPE=text/html:<div><span lang="EN"><p align="justify"><span style="font-family: Arial"><span style="font-size: small">Women of the Chamber are invited to attend this informal lunch program to network and hear &lsquo\;infomercials&rsquo\; from a pair of Chamber members. This month&rsquo\;s presenters\, Beverly Bloom\, Bloomin Books and Wendy Lynch\, AA Service\, will discuss what is unique to their business\, and the challenges and opportunities they face. </span></span></p></span></div>
LOCATION:Chamber Office2002 Walters Ave.
UID:e.355.1253
SEQUENCE:3
DTSTAMP:20260422T112802Z
URL:https://business.northbrookchamber.org/events/details/women-in-business-roundtable-01-19-2010-1253
END:VEVENT

END:VCALENDAR
