BEGIN:VCALENDAR
VERSION:2.0
PRODID:-//ChamberMaster//Event Calendar 2.0//EN
METHOD:PUBLISH
X-PUBLISHED-TTL:P3D
REFRESH-INTERVAL:P3D
CALSCALE:GREGORIAN
BEGIN:VEVENT
DTSTART:20080318T164500Z
DTEND:20080318T181500Z
X-MICROSOFT-CDO-ALLDAYEVENT:FALSE
SUMMARY:Women in Business Round Table
DESCRIPTION:Women in Business RoundtableWomen of the Chamber are invited to attend this informal lunch program to network and hear "infomercials" from member colleagues Beverly Bloom\, Bloomin's Books and Carol Raugstad\, LaSalle Preferred Services.
X-ALT-DESC;FMTTYPE=text/html:<div>Women in Business Roundtable</div><div>Women of the Chamber are invited to attend this informal lunch program to network and hear &quot\;infomercials&quot\; from member colleagues Beverly Bloom\, Bloomin&rsquo\;s Books and Carol Raugstad\, LaSalle Preferred Services.</div>
LOCATION:Northrbook Chamber of Commerce Building
UID:e.355.652
SEQUENCE:3
DTSTAMP:20260425T003014Z
URL:https://business.northbrookchamber.org/events/details/women-in-business-round-table-03-18-2008-652
END:VEVENT

END:VCALENDAR
