BEGIN:VCALENDAR
VERSION:2.0
PRODID:-//ChamberMaster//Event Calendar 2.0//EN
METHOD:PUBLISH
X-PUBLISHED-TTL:P3D
REFRESH-INTERVAL:P3D
CALSCALE:GREGORIAN
BEGIN:VEVENT
DTSTART:20090325T223000Z
DTEND:20090326T003000Z
X-MICROSOFT-CDO-ALLDAYEVENT:FALSE
SUMMARY:Women in Business After Hours Event
DESCRIPTION:Women of the Chamber are invited to join with colleagues from the Highland Park and Lake Forest Chambers to enjoy an opportunity to learn the latest fashion and style tips from Saks Fifth Avenue wardrobe stylist Elizabeth Burpoe.  Whether working from home\, a small office\, or need to dress for the corporate world\, attendees will learn how to will learn how to break up" those suits and wear them as separates\, how to coordinate and update your wardrobe from day to night without breaking the bank.  Burpoe is an expert on fabric knowledge\, fit\, style and lifestyle dressing and her clients have ranged from actresses and socialites to dressing everyday people across the country for the past 25 years.
X-ALT-DESC;FMTTYPE=text/html:<div><span style="font-size: 10pt\; font-family: &quot\;Arial&quot\;\,&quot\;sans-serif&quot\;\; mso-fareast-font-family: 'Times New Roman'\; mso-ansi-language: EN-US\; mso-fareast-language: EN-US\; mso-bidi-language: AR-SA"><font color="#000000">Women of the Chamber are invited to join with colleagues from the Highland Park and <span class="yshortcuts">Lake Forest</span> Chambers to enjoy an opportunity to learn the latest fashion and style tips from Saks <span class="yshortcuts">Fifth Avenue</span> <span class="yshortcuts">wardrobe stylist</span> Elizabeth Burpoe.&nbsp\; Whether working from home\, a small office\, or need to dress for the corporate world\, attendees will learn how to </font><font color="#000000"><span style="color: navy">will learn how to break up&rdquo\; those suits and wear them as separates\, how to coordinate and update your wardrobe from day to night without breaking the bank.</span>&nbsp\; Burpoe is an expert on fabric knowledge\, fit\, style and lifestyle dressing and her clients have ranged from actresses and socialites to dressing everyday people across the country for the past 25 years.</font>&nbsp\;</span></div>
LOCATION:Saks Fifth Avenue1849 Green Bay Rd.\, Highland Park
UID:e.355.777
SEQUENCE:3
DTSTAMP:20260424T103635Z
URL:https://business.northbrookchamber.org/events/details/women-in-business-after-hours-event-03-25-2009-777
END:VEVENT

END:VCALENDAR
