BEGIN:VCALENDAR
VERSION:2.0
PRODID:-//ChamberMaster//Event Calendar 2.0//EN
METHOD:PUBLISH
X-PUBLISHED-TTL:P3D
REFRESH-INTERVAL:P3D
CALSCALE:GREGORIAN
BEGIN:VEVENT
DTSTART:20230928T130000Z
DTEND:20230928T140000Z
X-MICROSOFT-CDO-ALLDAYEVENT:FALSE
SUMMARY:Village Licensing Forum
DESCRIPTION:Have questions about Northbrook's license or permit process? Ideas to share for how the process might be better? \n\n\n\nVillage Clerk Debbie Ford joins Chamber members for an informative discussion of current procedures and ideas for new approaches - with your input!\n\n\n\nJoin us for coffee and constructive conversation!
X-ALT-DESC;FMTTYPE=text/html:<span style="color: rgb(68\, 68\, 68)\; font-family: firasans\, sans-serif\; font-size: 14px\;">Have questions about Northbrook&#39\;s license or permit process? Ideas to share for how the process might be better?&nbsp\;</span><br aria-hidden="true" style="color: rgb(68\, 68\, 68)\; font-family: firasans\, sans-serif\; font-size: 14px\;" />\n<br aria-hidden="true" style="color: rgb(68\, 68\, 68)\; font-family: firasans\, sans-serif\; font-size: 14px\;" />\n<span style="color: rgb(68\, 68\, 68)\; font-family: firasans\, sans-serif\; font-size: 14px\;">Village Clerk Debbie Ford joins Chamber members for an informative discussion of current procedures and ideas for new approaches - with your input!</span><br aria-hidden="true" style="color: rgb(68\, 68\, 68)\; font-family: firasans\, sans-serif\; font-size: 14px\;" />\n<br aria-hidden="true" style="color: rgb(68\, 68\, 68)\; font-family: firasans\, sans-serif\; font-size: 14px\;" />\n<span style="color: rgb(68\, 68\, 68)\; font-family: firasans\, sans-serif\; font-size: 14px\;">Join us for coffee and constructive conversation!</span>
LOCATION:Chamber Office 2002 Walters Ave.
UID:e.355.4414
SEQUENCE:3
DTSTAMP:20260424T232006Z
URL:https://business.northbrookchamber.org/events/details/village-licensing-forum-4414
END:VEVENT

END:VCALENDAR
