BEGIN:VCALENDAR
VERSION:2.0
PRODID:-//ChamberMaster//Event Calendar 2.0//EN
METHOD:PUBLISH
X-PUBLISHED-TTL:P3D
REFRESH-INTERVAL:P3D
CALSCALE:GREGORIAN
BEGIN:VEVENT
DTSTART:20091216T174500Z
DTEND:20091216T191500Z
X-MICROSOFT-CDO-ALLDAYEVENT:FALSE
SUMMARY:Technology Lunch & Learn
DESCRIPTION:Windows 7 - Is Now the TimeThe recent release of the newest version of Microsoft Windows has generated a lot of interest and questions about the new operating system. At this informative program\, led by Howard Frank\, Total Computer Solutions\, participants will learn about the latest features and functions of this seventh version of Windows. The program will feature a hands on demonstration\, and a discussion on the differences between the versions of Windows 7. There will also be a discussion on the decision making process on whether or not to upgrade. Participants are encouraged to bring their questions to the program.
X-ALT-DESC;FMTTYPE=text/html:<div><span lang="EN"><p align="justify"><span style="color: #333300"><span style="font-size: small"><strong><em>Windows 7 - Is Now the Time</em></strong></span></span></p><p align="justify"><span style="font-size: small">The recent release of the newest version of Microsoft Windows has generated a lot of interest and questions about the new operating system. At this informative program\, led by Howard Frank\, Total Computer Solutions\, participants will learn about the latest features and functions of this seventh version of Windows. The program will feature a hands on demonstration\, and a discussion on the differences between the versions of Windows 7. There will also be a discussion on the decision making process on whether or not to upgrade. Participants are encouraged to bring their questions to the program.</span></p></span></div>
LOCATION:Chamber Office2002 Walters Avenue
UID:e.355.1250
SEQUENCE:3
DTSTAMP:20260422T123940Z
URL:https://business.northbrookchamber.org/events/details/technology-lunch-learn-12-16-2009-1250
END:VEVENT

END:VCALENDAR
