BEGIN:VCALENDAR
VERSION:2.0
PRODID:-//ChamberMaster//Event Calendar 2.0//EN
METHOD:PUBLISH
X-PUBLISHED-TTL:P3D
REFRESH-INTERVAL:P3D
CALSCALE:GREGORIAN
BEGIN:VEVENT
DTSTART:20080424T044500Z
DTEND:20080423T181500Z
X-MICROSOFT-CDO-ALLDAYEVENT:FALSE
SUMMARY:Technology Brown Bag Lunch
DESCRIPTION:Are you frustrated by your office technology?  Are you unsure about the return on your technology investment?  Are you tempted to return to paper and pencil? At this informal lunch program Tech Group members Don Bloom and Phil Barry will help you domesticate the office technology beast\, offering helpful tips on how to identify the right tool for the right job for your business.   They will help you determine what to tackle on your own and when you can benefit from additional training or outside support.    Their presentation will show you how to save time and money while getting better value from your computer investment.  There will be plenty of time for questions and answers.
X-ALT-DESC;FMTTYPE=text/html:<div><font size="2">Are you frustrated by your office technology?&nbsp\; Are you unsure about the return on your technology investment?&nbsp\; Are you tempted to return to paper and pencil? At this informal lunch program Tech Group members Don Bloom and Phil Barry will help you domesticate the office technology beast\, offering&nbsp\;helpful tips on how to identify the right tool for the right job for your business.&nbsp\;&nbsp\; They will help you determine what to tackle on your own and when you can benefit from additional training or outside support.&nbsp\;&nbsp\;&nbsp\; Their presentation will show you how to save time and money while getting better value from your computer investment.&nbsp\; There will be plenty of time for questions and answers.</font>&nbsp\;</div>
LOCATION:Chamber Office 2002 Walters Avenue
UID:e.355.715
SEQUENCE:3
DTSTAMP:20260424T232130Z
URL:https://business.northbrookchamber.org/events/details/technology-brown-bag-lunch-04-23-2008-715
END:VEVENT

END:VCALENDAR
