BEGIN:VCALENDAR
VERSION:2.0
PRODID:-//ChamberMaster//Event Calendar 2.0//EN
METHOD:PUBLISH
X-PUBLISHED-TTL:P3D
REFRESH-INTERVAL:P3D
CALSCALE:GREGORIAN
BEGIN:VEVENT
DTSTART:20090527T164500Z
DTEND:20090527T181500Z
X-MICROSOFT-CDO-ALLDAYEVENT:FALSE
SUMMARY:Tech Roundtable- Managing your Digital Photos
DESCRIPTION:
X-ALT-DESC;FMTTYPE=text/html:
LOCATION:Tech Roundtable Lunch
UID:e.355.1209
SEQUENCE:3
DTSTAMP:20260424T081446Z
URL:https://business.northbrookchamber.org/events/details/tech-roundtable-managing-your-digital-photos-05-27-2009-1209
END:VEVENT

END:VCALENDAR
