BEGIN:VCALENDAR
VERSION:2.0
PRODID:-//ChamberMaster//Event Calendar 2.0//EN
METHOD:PUBLISH
X-PUBLISHED-TTL:P3D
REFRESH-INTERVAL:P3D
CALSCALE:GREGORIAN
BEGIN:VEVENT
DTSTART;VALUE=DATE:20091022
DTEND;VALUE=DATE:20091023
TRANSP:TRANSPARENT
X-MICROSOFT-CDO-ALLDAYEVENT:TRUE
SUMMARY:Tech Networking Forum
DESCRIPTION:Often making peer to peer referrals\, members involved in technology use this forum to learn about each other's expertise and form power partnerships.  If you specialize in hardware\, software\, computer networking\, or another technology specialty\, consider attending this focused networking session.  Practitioners Only.
X-ALT-DESC;FMTTYPE=text/html:<div>\n	<font size="2">Often making peer to peer referrals\, members involved in technology use this forum to learn about each other&rsquo\;s expertise and form power partnerships.&nbsp\; If you specialize in hardware\, software\, computer networking\, or another technology specialty\, consider attending this focused networking session.&nbsp\; <em>Practitioners Only.</em></font></div>\n
LOCATION:Chamber Office 2002 Walters Avenue
UID:e.355.785
SEQUENCE:3
DTSTAMP:20260422T191402Z
URL:https://business.northbrookchamber.org/events/details/tech-networking-forum-10-22-2009-785
END:VEVENT

END:VCALENDAR
