BEGIN:VCALENDAR
VERSION:2.0
PRODID:-//ChamberMaster//Event Calendar 2.0//EN
METHOD:PUBLISH
X-PUBLISHED-TTL:P3D
REFRESH-INTERVAL:P3D
CALSCALE:GREGORIAN
BEGIN:VEVENT
DTSTART;VALUE=DATE:20200721
DTEND;VALUE=DATE:20200722
TRANSP:TRANSPARENT
X-MICROSOFT-CDO-ALLDAYEVENT:TRUE
SUMMARY:Student Meal Pack - July
DESCRIPTION:The Chamber continues to support local families in need through the Hunger Free Northbrook student meal pack program.  With our member's support of the program\, eligible students at a local school receive a bag of nutritious groceries each month. In this time of economic hardship for many families\, your assistance is needed and appreciated more than ever.\n\n\n\nThe Chamber needs 22 volunteers from the membership to purchase a predetermined list of groceries and deliver the items in one paper bag to the Chamber office.  The estimated cost of the items is $25 - $30. To participate\, click the register now button (above) and you will see the guidelines and list of items needed for this month.  Below the guidelines and item list\, you will be asked to complete a registration form with your name and contact information.
X-ALT-DESC;FMTTYPE=text/html:<span style="color:black\;"><span style="font-size:12.0pt\;">The Chamber continues to support local families in need through the Hunger Free Northbrook student meal pack program.&nbsp\; With our member&#39\;s support of the program\, eligible students at a local school receive a bag of nutritious groceries each month. In this time of economic hardship for many families\, your assistance is needed and appreciated more than ever.</span></span><br />\n<br style="font-variant-ligatures:normal\;font-variant-caps:normal\;orphans:2\;text-align:start\;widows:2\;-webkit-text-stroke-width:0px\;text-decoration-style:initial\;word-spacing:0px\;" />\n<span style="color:#333333\;"><span style="font-size:12.0pt\;"><span style="background:white\;"><span style="font-variant-ligatures:normal\;font-variant-caps:normal\;orphans:2\;text-align:start\;widows:2\;-webkit-text-stroke-width:0px\;text-decoration-style:initial\;float:none\;word-spacing:0px\;">The Chamber needs 22 volunteers from the membership to purchase a predetermined list of groceries and deliver the items in one paper bag to the Chamber office.&nbsp\; The estimated cost of the items is $25 - $30. To participate\, click the register now button (above) and you will see the guidelines and list of items needed for this month.&nbsp\; Below the guidelines and item list\, you will be asked to complete a registration form with your name and contact information.</span></span></span></span>
LOCATION:
UID:e.355.3833
SEQUENCE:3
DTSTAMP:20260422T170143Z
URL:https://business.northbrookchamber.org/events/details/student-meal-pack-july-3833
END:VEVENT

END:VCALENDAR
