BEGIN:VCALENDAR
VERSION:2.0
PRODID:-//ChamberMaster//Event Calendar 2.0//EN
METHOD:PUBLISH
X-PUBLISHED-TTL:P3D
REFRESH-INTERVAL:P3D
CALSCALE:GREGORIAN
BEGIN:VEVENT
DTSTART:20251216T150000Z
DTEND:20251216T160000Z
X-MICROSOFT-CDO-ALLDAYEVENT:FALSE
SUMMARY:Student Meal Donation Program
DESCRIPTION:Help prevent hunger in our community! The Chamber is partnering with Hunger Resource Network to provide supplemental meals for Northbrook children eligible for free or subsidized school lunches. We invite members to participate by donating one bag filled with the items listed below -- an approximate cost of $25-$30. Our goal is to collect at least 20 bags each month. The need is especially great during the holiday season when children are not receiving meals at school over winter break!\n\n\n	Use a double-bagged\, brown paper shopping bag with handles\n	Content should all be packed in the same bag\, which helps in transport and ensuring that each order is received in full\n	Do not add items that are not on the list -- while your generous spirit is appreciated\, the goals is for all children to receive the same items\n	NO GLASS CONTAINERS PLEASE\n\n\n\nContents for November ("Bag A")\n\nProtein:\n\n\n	One 10-12 oz canned chicken\n	One 10-12 oz canned tuna\n	One 16 oz peanut butter (plastic jar\, no trans/hydrogenated oils\, low/no sugar added)\n\nVeggie/Fruit:\n\n\n	Two 15 oz cans of fruit - no added sugar\n	One 24 oz pasta sauce (plastic jar or can)\n	One 18 oz jam/preserves (plastic jar\, low sugar\, no artificial sweeteners)\n\nGrains:\n\n\n	One box whole grain cereal\, 18 oz or larger\n	One box of 8-12 granola bars\, high protein if available\n	One 16 oz box of pasta
X-ALT-DESC;FMTTYPE=text/html:<h3><span style="font-family: arial\; font-size: 16px\;">Help prevent hunger in our community! The Chamber is partnering with Hunger Resource Network to provide supplemental meals for Northbrook children eligible for free or subsidized school lunches. We invite members to participate by donating one bag filled with the items listed below -- an approximate cost of $25-$30. Our goal is to collect at least 20 bags each month.<strong>&nbsp\;<em>The need is especially great during the holiday season when children are not receiving meals at school over winter break!</em></strong></span></h3>\n\n<ul>\n	<li><span style="font-size:16px\;"><span style="font-family:arial\;">Use a double-bagged\, brown paper shopping bag with handles</span></span></li>\n	<li><span style="font-size:16px\;"><span style="font-family:arial\;">Content should all be packed in the same bag\, which helps in transport and ensuring that each order is received in full</span></span></li>\n	<li><span style="font-size:16px\;"><span style="font-family:arial\;">Do not add items that are not on the list -- while your generous spirit is appreciated\, the goals is for all children to receive the same items</span></span></li>\n	<li><span style="font-size:16px\;"><span style="font-family:arial\;">NO GLASS CONTAINERS PLEASE</span></span></li>\n</ul>\n<br />\n<span style="font-size:16px\;"><span style="font-family:arial\;"><u><strong>Contents for November (&quot\;Bag A&quot\;)</strong></u><br />\nProtein:</span></span>\n\n<ul>\n	<li><span style="font-size:16px\;"><span style="font-family:arial\;">One 10-12 oz canned chicken</span></span></li>\n	<li><span style="font-size:16px\;"><span style="font-family:arial\;">One 10-12 oz canned tuna</span></span></li>\n	<li><span style="font-size:16px\;"><span style="font-family:arial\;">One 16 oz peanut butter (plastic jar\, no trans/hydrogenated oils\, low/no sugar added)</span></span></li>\n</ul>\n<span style="font-size:16px\;"><span style="font-family:arial\;">Veggie/Fruit:</span></span>\n\n<ul>\n	<li><span style="font-size:16px\;"><span style="font-family:arial\;">Two 15 oz cans of fruit - no added sugar</span></span></li>\n	<li><span style="font-size:16px\;"><span style="font-family:arial\;">One 24 oz pasta sauce (plastic jar or can)</span></span></li>\n	<li><span style="font-size:16px\;"><span style="font-family:arial\;">One 18 oz jam/preserves (plastic jar\, low sugar\, no artificial sweeteners)</span></span></li>\n</ul>\n<span style="font-size:16px\;"><span style="font-family:arial\;">Grains:</span></span>\n\n<ul>\n	<li><span style="font-size:16px\;"><span style="font-family:arial\;">One box whole grain cereal\, 18 oz or larger</span></span></li>\n	<li><span style="font-size:16px\;"><span style="font-family:arial\;">One box of 8-12 granola bars\, high protein if available</span></span></li>\n	<li><span style="font-size:16px\;"><span style="font-family:arial\;">One 16 oz box of pasta</span></span></li>\n</ul>\n
LOCATION:Drop off bags at Chamber office\, 2002 Walters Avenue during regular business hours. Please call ahead. Bags may also be delivered to Action Plastics\, 3995 Commercial Avenue.
UID:e.355.4934
SEQUENCE:3
DTSTAMP:20260424T185837Z
URL:https://business.northbrookchamber.org/events/details/student-meal-donation-program-4934
END:VEVENT

END:VCALENDAR
