BEGIN:VCALENDAR
VERSION:2.0
PRODID:-//ChamberMaster//Event Calendar 2.0//EN
METHOD:PUBLISH
X-PUBLISHED-TTL:P3D
REFRESH-INTERVAL:P3D
CALSCALE:GREGORIAN
BEGIN:VEVENT
DTSTART:20240126T150000Z
DTEND:20240126T160000Z
X-MICROSOFT-CDO-ALLDAYEVENT:FALSE
SUMMARY:State of the Village Address with President Kathryn Ciesla
DESCRIPTION:REGISTRATION IS NOW FILLED FOR THIS EVENT.  The presentation will be recorded and made available on the Village's website. Watch for links to the video on the Chamber's social media.\n\n\n\nVillage President Kathryn Ciesla delivers the 2024 Annual State of Village Address on Friday\, January 26 at the Northbrook Public Library Auditorium.\n\n \n\nThis special event brings together Village leadership\, the business community\, and residents for an overview of challenges\, accomplishments\, and goals for the coming year.\n\n \n\nSeats are limited and registration is required for all attendees. A Q&A period will be included.\n\n \n\nChamber members are invited to a pre-event coffee from 8:30-8:55 a.m. in the Pollack Room\, first floor\, followed by the 9:00 a.m. presentation. Many thanks to our coffee sponsor\, Sunset Foods.\n\n \n\nNon-member residents and business owners from the Village of Northbrook are welcome to attend the address. Pre-registration by January 25 at noon with street address is required.
X-ALT-DESC;FMTTYPE=text/html:<strong>REGISTRATION IS NOW FILLED FOR THIS EVENT.&nbsp\;</strong>&nbsp\;<strong>The presentation will be recorded and made available on the Village&#39\;s website. Watch for links to the video on the Chamber&#39\;s social media.</strong><br />\n<br />\nVillage President Kathryn Ciesla delivers the 2024 Annual State of Village Address on Friday\, January 26 at the Northbrook Public Library Auditorium.<br />\n&nbsp\;<br />\nThis special event brings together Village leadership\, the business community\, and residents for an overview of challenges\, accomplishments\, and goals for the coming year.<br />\n&nbsp\;<br />\nSeats are limited and registration is required for all attendees. A Q&amp\;A period will be included.<br />\n&nbsp\;<br />\nChamber members are invited to a pre-event coffee from 8:30-8:55 a.m. in the Pollack Room\, first floor\, followed by the 9:00 a.m. presentation. Many thanks to our coffee sponsor\, Sunset Foods.<br />\n&nbsp\;<br />\nNon-member residents and business owners from the Village of Northbrook are welcome to attend the address. <strong>Pre-registration by January 25 at noon with street address is required.</strong><br />\n&nbsp\;
LOCATION:Northbrook Public Library 1201 Cedar Lane Auditorium
UID:e.355.4451
SEQUENCE:3
DTSTAMP:20260426T035930Z
URL:https://business.northbrookchamber.org/events/details/state-of-the-village-address-with-president-kathryn-ciesla-4451
END:VEVENT

END:VCALENDAR
