BEGIN:VCALENDAR
VERSION:2.0
PRODID:-//ChamberMaster//Event Calendar 2.0//EN
METHOD:PUBLISH
X-PUBLISHED-TTL:P3D
REFRESH-INTERVAL:P3D
CALSCALE:GREGORIAN
BEGIN:VEVENT
DTSTART:20080724T220000Z
DTEND:20080725T000000Z
X-MICROSOFT-CDO-ALLDAYEVENT:FALSE
SUMMARY:Softball vs. DBR Chamber
DESCRIPTION:The Northbrook Chamber takes on the Deerfield Riverwoods Bannockburn Chamber for the annual Softball Challenge.  With a three win and three loss record\, this year marks the seventh annual grudge match between the two Chambers.  With energetic coaching by Jeff Simon\, and sideline cheering by Chamber members and staff\, the event is sure to be a lot of fun. Call the Chamber at  (847)498-5555 ext. 203 if you want to join the team.
X-ALT-DESC;FMTTYPE=text/html:<div>The Northbrook Chamber takes on the Deerfield Riverwoods Bannockburn Chamber for the annual Softball Challenge.&nbsp\; With a three win and three loss record\, this year marks the seventh annual grudge match between the two Chambers.&nbsp\; With energetic coaching by Jeff Simon\, and sideline cheering by Chamber members and staff\, the event is sure to be a lot of fun. Call the Chamber at &nbsp\;(847)498-5555 ext. 203 if you want to join the team.</div>
LOCATION:Maplewood Park\, Deerfield
UID:e.355.732
SEQUENCE:3
DTSTAMP:20260424T195842Z
URL:https://business.northbrookchamber.org/events/details/softball-vs-dbr-chamber-07-24-2008-732
END:VEVENT

END:VCALENDAR
