BEGIN:VCALENDAR
VERSION:2.0
PRODID:-//ChamberMaster//Event Calendar 2.0//EN
METHOD:PUBLISH
X-PUBLISHED-TTL:P3D
REFRESH-INTERVAL:P3D
CALSCALE:GREGORIAN
BEGIN:VEVENT
DTSTART:20060913T164500Z
DTEND:20060913T181500Z
X-MICROSOFT-CDO-ALLDAYEVENT:FALSE
SUMMARY:Small/Home Office: September 2006 Small/Home Office
DESCRIPTION:This month's SOHO will feature a special presentation on Reference USA\, the Library's Internet-based database containing information on more than 13 million U.S. businesses.  The program will be held in the Library's computer lab to provide attendees with a hands on demonstration of how to use this powerful market research tool.  Attendees will learn how to search by name\, geographic area\, company size\, sales volulme\, Yellow Page heading\, zip code\, area code.  You will also learn how to download the data once the search is completed.  Participation is limited to 15.
X-ALT-DESC;FMTTYPE=text/html:This month's SOHO will feature a special presentation on Reference USA\, the Library's Internet-based database containing information on more than 13 million U.S. businesses.  The program will be held in the Library's computer lab to provide attendees with a hands on demonstration of how to use this powerful market research tool.  Attendees will learn how to search by name\, geographic area\, company size\, sales volulme\, Yellow Page heading\, zip code\, area code.  You will also learn how to download the data once the search is completed.  Participation is limited to 15.
LOCATION:
UID:e.355.208
SEQUENCE:3
DTSTAMP:20260425T222232Z
URL:https://business.northbrookchamber.org/events/details/small-home-office-september-2006-small-home-office-09-13-2006-208
END:VEVENT

END:VCALENDAR
