BEGIN:VCALENDAR
VERSION:2.0
PRODID:-//ChamberMaster//Event Calendar 2.0//EN
METHOD:PUBLISH
X-PUBLISHED-TTL:P3D
REFRESH-INTERVAL:P3D
CALSCALE:GREGORIAN
BEGIN:VEVENT
DTSTART:20070314T161500Z
DTEND:20070314T171100Z
X-MICROSOFT-CDO-ALLDAYEVENT:FALSE
SUMMARY:Small/Home Office: March 2007 Small/Home Office
DESCRIPTION:Meet and network with fellow entrepreneurs.  Discuss the problems and solutions that small businesses have in common.  Participants come from a myriad of backgrounds and share a wealth of information.  Catered lunch must be ordered 24 hours in advance.  No charge to brown bag.  Guests must call the Chamber at (847)498-5555 ext. 203 to register.
X-ALT-DESC;FMTTYPE=text/html:Meet and network with fellow entrepreneurs.  Discuss the problems and solutions that small businesses have in common.  Participants come from a myriad of backgrounds and share a wealth of information.  Catered lunch must be ordered 24 hours in advance.  No charge to brown bag.  Guests must call the Chamber at (847)498-5555 ext. 203 to register.
LOCATION:
UID:e.355.236
SEQUENCE:3
DTSTAMP:20260425T152030Z
URL:https://business.northbrookchamber.org/events/details/small-home-office-march-2007-small-home-office-03-14-2007-236
END:VEVENT

END:VCALENDAR
