BEGIN:VCALENDAR
VERSION:2.0
PRODID:-//ChamberMaster//Event Calendar 2.0//EN
METHOD:PUBLISH
X-PUBLISHED-TTL:P3D
REFRESH-INTERVAL:P3D
CALSCALE:GREGORIAN
BEGIN:VEVENT
DTSTART:20070613T164500Z
DTEND:20070613T181500Z
X-MICROSOFT-CDO-ALLDAYEVENT:FALSE
SUMMARY:Small/Home Office: June 2007 SOHO
DESCRIPTION:Meet and network with fellow entrepreneurs.  Discuss the problems and solutions that small businesses have in common.  Participants come from a myriad of backgrounds and share a wealth of information.  Charge for catered lunch is $6 which must be ordered 24 hours in advance.  No charge to brown bag.  Guests must call the Chamber at (847)498-5555 ext. 203 to register.
X-ALT-DESC;FMTTYPE=text/html:Meet and network with fellow entrepreneurs.  Discuss the problems and solutions that small businesses have in common.  Participants come from a myriad of backgrounds and share a wealth of information.  Charge for catered lunch is $6 which must be ordered 24 hours in advance.  No charge to brown bag.  Guests must call the Chamber at (847)498-5555 ext. 203 to register.
LOCATION:
UID:e.355.257
SEQUENCE:3
DTSTAMP:20260425T111825Z
URL:https://business.northbrookchamber.org/events/details/small-home-office-june-2007-soho-06-13-2007-257
END:VEVENT

END:VCALENDAR
