BEGIN:VCALENDAR
VERSION:2.0
PRODID:-//ChamberMaster//Event Calendar 2.0//EN
METHOD:PUBLISH
X-PUBLISHED-TTL:P3D
REFRESH-INTERVAL:P3D
CALSCALE:GREGORIAN
BEGIN:VEVENT
DTSTART:20060712T164500Z
DTEND:20060712T181500Z
X-MICROSOFT-CDO-ALLDAYEVENT:FALSE
SUMMARY:Small/Home Office: July 2006 Small/Home Office
DESCRIPTION:Join with area entrepreneurs at an informal lunch meeting to share ideas and strategies.  Participants come from a range of backgrounds and offer helpful suggestions for running a successful business.
X-ALT-DESC;FMTTYPE=text/html:Join with area entrepreneurs at an informal lunch meeting to share ideas and strategies.  Participants come from a range of backgrounds and offer helpful suggestions for running a successful business.
LOCATION:
UID:e.355.193
SEQUENCE:3
DTSTAMP:20260426T004555Z
URL:https://business.northbrookchamber.org/events/details/small-home-office-july-2006-small-home-office-07-12-2006-193
END:VEVENT

END:VCALENDAR
