BEGIN:VCALENDAR
VERSION:2.0
PRODID:-//ChamberMaster//Event Calendar 2.0//EN
METHOD:PUBLISH
X-PUBLISHED-TTL:P3D
REFRESH-INTERVAL:P3D
CALSCALE:GREGORIAN
BEGIN:VEVENT
DTSTART:20080109T174500Z
DTEND:20080109T191500Z
X-MICROSOFT-CDO-ALLDAYEVENT:FALSE
SUMMARY:Small/Home Office: January 2008 SOHO
DESCRIPTION:Join with Chamber members and guests to discuss the problems and solutions faced by home offices.  There will be a brief update on the Chamber's progress to amend the Village's home based business ordinance.  Cost is $8 for catered lunch (must be ordered 24 hours in advance)\; no charge for brown bag lunch.  (guests are encouraged to register in advance)  .  Call (847)498-5555 ext. 203 to register your attendance.
X-ALT-DESC;FMTTYPE=text/html:Join with Chamber members and guests to discuss the problems and solutions faced by home offices.  There will be a brief update on the Chamber's progress to amend the Village's home based business ordinance.  Cost is $8 for catered lunch (must be ordered 24 hours in advance)\; no charge for brown bag lunch.  (guests are encouraged to register in advance)  .  Call (847)498-5555 ext. 203 to register your attendance.
LOCATION:
UID:e.355.301
SEQUENCE:3
DTSTAMP:20260425T025516Z
URL:https://business.northbrookchamber.org/events/details/small-home-office-january-2008-soho-01-09-2008-301
END:VEVENT

END:VCALENDAR
