BEGIN:VCALENDAR
VERSION:2.0
PRODID:-//ChamberMaster//Event Calendar 2.0//EN
METHOD:PUBLISH
X-PUBLISHED-TTL:P3D
REFRESH-INTERVAL:P3D
CALSCALE:GREGORIAN
BEGIN:VEVENT
DTSTART:20080213T174500Z
DTEND:20080213T071500Z
X-MICROSOFT-CDO-ALLDAYEVENT:FALSE
SUMMARY:Small/Home Office: February 2008 Small/Home Office
DESCRIPTION:Join with fellow small business owners and entrepreneurs to discuss issues of concern and to problem solve.  Members come from a myriad of backgrounds and have a wealth of information to share.  No charge to brown bag\, $8 catered lunch.  To register your attendance call (9847)498-5555 ext. 203.
X-ALT-DESC;FMTTYPE=text/html:Join with fellow small business owners and entrepreneurs to discuss issues of concern and to problem solve.  Members come from a myriad of backgrounds and have a wealth of information to share.  No charge to brown bag\, $8 catered lunch.  To register your attendance call (9847)498-5555 ext. 203.
LOCATION:
UID:e.355.306
SEQUENCE:3
DTSTAMP:20260425T013744Z
URL:https://business.northbrookchamber.org/events/details/small-home-office-february-2008-small-home-office-02-13-2008-306
END:VEVENT

END:VCALENDAR
