BEGIN:VCALENDAR
VERSION:2.0
PRODID:-//ChamberMaster//Event Calendar 2.0//EN
METHOD:PUBLISH
X-PUBLISHED-TTL:P3D
REFRESH-INTERVAL:P3D
CALSCALE:GREGORIAN
BEGIN:VEVENT
DTSTART:20071212T174500Z
DTEND:20071212T191500Z
X-MICROSOFT-CDO-ALLDAYEVENT:FALSE
SUMMARY:Small/Home Office: December 2007 SOHO
DESCRIPTION:Join with Chamber members and guests to discuss the problems and solutions faced by home offices.  There will be a brief update on the Chamber's progress to amend the Village's home based business ordinance.  Cost is $6 for catered lunch\; no charge for brown bag lunch.  Call (847)498-5555 ext. 203 to register your attendance.
X-ALT-DESC;FMTTYPE=text/html:Join with Chamber members and guests to discuss the problems and solutions faced by home offices.  There will be a brief update on the Chamber's progress to amend the Village's home based business ordinance.  Cost is $6 for catered lunch\; no charge for brown bag lunch.  Call (847)498-5555 ext. 203 to register your attendance.
LOCATION:
UID:e.355.294
SEQUENCE:3
DTSTAMP:20260425T040122Z
URL:https://business.northbrookchamber.org/events/details/small-home-office-december-2007-soho-12-12-2007-294
END:VEVENT

END:VCALENDAR
