BEGIN:VCALENDAR
VERSION:2.0
PRODID:-//ChamberMaster//Event Calendar 2.0//EN
METHOD:PUBLISH
X-PUBLISHED-TTL:P3D
REFRESH-INTERVAL:P3D
CALSCALE:GREGORIAN
BEGIN:VEVENT
DTSTART:20070411T130000Z
DTEND:20070411T130000Z
X-MICROSOFT-CDO-ALLDAYEVENT:FALSE
SUMMARY:Small/Home Office: April 2007 Small/Home Office
DESCRIPTION:Meet and network with fellow entrepreneurs.  Discuss the problems and solutions that small businesses have in common.  Participants come from a myriad of backgrounds and share a wealth of information.  Catered lunch must be ordered 24 hours in advance.  No charge to brown bag.  Guests must call the Chamber at (847)498-5555 ext. 203 to register.
X-ALT-DESC;FMTTYPE=text/html:Meet and network with fellow entrepreneurs.  Discuss the problems and solutions that small businesses have in common.  Participants come from a myriad of backgrounds and share a wealth of information.  Catered lunch must be ordered 24 hours in advance.  No charge to brown bag.  Guests must call the Chamber at (847)498-5555 ext. 203 to register.
LOCATION:
UID:e.355.237
SEQUENCE:3
DTSTAMP:20260425T134100Z
URL:https://business.northbrookchamber.org/events/details/small-home-office-april-2007-small-home-office-04-11-2007-237
END:VEVENT

END:VCALENDAR
