BEGIN:VCALENDAR
VERSION:2.0
PRODID:-//ChamberMaster//Event Calendar 2.0//EN
METHOD:PUBLISH
X-PUBLISHED-TTL:P3D
REFRESH-INTERVAL:P3D
CALSCALE:GREGORIAN
BEGIN:VEVENT
DTSTART:20240125T233000Z
DTEND:20240125T234500Z
X-MICROSOFT-CDO-ALLDAYEVENT:FALSE
SUMMARY:Ribbon Cutting Ovme
DESCRIPTION:Ribbon Cutting OVME  Med Spa
X-ALT-DESC;FMTTYPE=text/html:Ribbon Cutting OVME&nbsp\; Med Spa
LOCATION:OVME Willow Festival\, 840 Willow Rd.\, Ste. J\, Northbrook\, IL 60062
UID:e.355.4488
SEQUENCE:3
DTSTAMP:20260426T035807Z
URL:https://business.northbrookchamber.org/events/details/ribbon-cutting-ovme-4488
END:VEVENT

END:VCALENDAR
