BEGIN:VCALENDAR
VERSION:2.0
PRODID:-//ChamberMaster//Event Calendar 2.0//EN
METHOD:PUBLISH
X-PUBLISHED-TTL:P3D
REFRESH-INTERVAL:P3D
CALSCALE:GREGORIAN
BEGIN:VEVENT
DTSTART:20240119T220000Z
DTEND:20240119T224500Z
X-MICROSOFT-CDO-ALLDAYEVENT:FALSE
SUMMARY:Ribbon Cutting Lacquer Lounge
DESCRIPTION:Ribbon Cutting
X-ALT-DESC;FMTTYPE=text/html:Ribbon Cutting
LOCATION:Lacquer Lounge Nail Spa Willow Festival\, 840 Willow Rd.\, Unit G\, Northbrook\, IL 60062
UID:e.355.4487
SEQUENCE:3
DTSTAMP:20260426T024919Z
URL:https://business.northbrookchamber.org/events/details/ribbon-cutting-lacquer-lounge-4487
END:VEVENT

END:VCALENDAR
