BEGIN:VCALENDAR
VERSION:2.0
PRODID:-//ChamberMaster//Event Calendar 2.0//EN
METHOD:PUBLISH
X-PUBLISHED-TTL:P3D
REFRESH-INTERVAL:P3D
CALSCALE:GREGORIAN
BEGIN:VEVENT
DTSTART:20241021T203000Z
DTEND:20241022T010000Z
X-MICROSOFT-CDO-ALLDAYEVENT:FALSE
SUMMARY:Restaurant Registration: Auction and Taste of the North Shore
DESCRIPTION:Showcase your specialties and brand your business at the Annual Taste of the North Shore!\n\n\n\nRestaurants\, caterers and other eateries are welcome to participate in this exciting evening that attracts chamber members\, community leaders and residents to sample the best of the North Shore's dining scene. Connect with new customers and raise your brand visibility!\n\n\n\nParticipants provide:\n\nSmall bite samples of two menu specialties (approximately 250 servings)\n\nStaff and serving equipment\n\n\n\nChamber provides:\n\nA six-foot skirted table\n\nPublicity including newspaper ads\, print posters\, press releases\, website listings\, social media and more!\n\n\n\nSpace is limited - reserve your table now!
X-ALT-DESC;FMTTYPE=text/html:<span style="font-size:14px\;">Showcase your specialties and brand your business at the Annual Taste of the North Shore!<br />\n<br />\nRestaurants\, caterers and other eateries are welcome to participate in this exciting evening that attracts chamber members\, community leaders and residents to sample the best of the North Shore&#39\;s dining scene. Connect with new customers and raise your brand visibility!<br />\n<br />\n<strong>Participants provide:</strong><br />\nSmall bite samples of two menu specialties (approximately 250 servings)<br />\nStaff and serving equipment<br />\n<br />\n<strong>Chamber provides:</strong><br />\nA six-foot skirted table<br />\nPublicity including newspaper ads\, print posters\, press releases\, website listings\, social media and more!<br />\n<br />\nSpace is limited - reserve your table now!&nbsp\;</span><br />\n<br />\n&nbsp\;
LOCATION:Renaissance Chicago North Shore Hotel 933 Skokie Blvd.\, Northbrook
UID:e.355.4605
SEQUENCE:3
DTSTAMP:20260422T233720Z
URL:https://business.northbrookchamber.org/events/details/restaurant-registration-auction-and-taste-of-the-north-shore-4605
END:VEVENT

END:VCALENDAR
