BEGIN:VCALENDAR
VERSION:2.0
PRODID:-//ChamberMaster//Event Calendar 2.0//EN
METHOD:PUBLISH
X-PUBLISHED-TTL:P3D
REFRESH-INTERVAL:P3D
CALSCALE:GREGORIAN
BEGIN:VEVENT
DTSTART:20080130T133000Z
DTEND:20080130T150000Z
X-MICROSOFT-CDO-ALLDAYEVENT:FALSE
SUMMARY:Power Networking lunch-- Multi-Chamber: Connect 8 - Multi-Chamber breakfast - Jan 2008
DESCRIPTION:Chamber members are invited to multiply their networking potential by eight by joining  with members of the DBR\, Glenview\, Morton Grove\, Nortjfield\, Skokie\, Wilmette and Winnetka Chamber members.  Members looking for a productive networking experience will enjoy the structured format of this program\, which gives each participant an opportunity to speak to a receptive audience about his/her companu's products and services.  The event will begin with informal networking over a continental breakfast.  After that\, the group will be divided into small groups at assigned tables where everyone will give a two minute presentation on their business.  Following will  be an additional presentation to a second group of participants.  Networking begins promptly at 7:45 a.m.  For more information\, call Mike Sullivan at (847)498-5555 ext. 205.  Fee is $10 for Chamber members.
X-ALT-DESC;FMTTYPE=text/html:Chamber members are invited to multiply their networking potential by eight by joining  with members of the DBR\, Glenview\, Morton Grove\, Nortjfield\, Skokie\, Wilmette and Winnetka Chamber members.  Members looking for a productive networking experience will enjoy the structured format of this program\, which gives each participant an opportunity to speak to a receptive audience about his/her companu's products and services.  The event will begin with informal networking over a continental breakfast.  After that\, the group will be divided into small groups at assigned tables where everyone will give a two minute presentation on their business.  Following will  be an additional presentation to a second group of participants.  Networking begins promptly at 7:45 a.m.  For more information\, call Mike Sullivan at (847)498-5555 ext. 205.  Fee is $10 for Chamber members.
LOCATION:
UID:e.355.303
SEQUENCE:3
DTSTAMP:20260425T025500Z
URL:https://business.northbrookchamber.org/events/details/power-networking-lunch-multi-chamber-connect-8-multi-chamber-breakfast-jan-2008-01-30-2008-303
END:VEVENT

END:VCALENDAR
