BEGIN:VCALENDAR
VERSION:2.0
PRODID:-//ChamberMaster//Event Calendar 2.0//EN
METHOD:PUBLISH
X-PUBLISHED-TTL:P3D
REFRESH-INTERVAL:P3D
CALSCALE:GREGORIAN
BEGIN:VEVENT
DTSTART:20080716T220000Z
DTEND:20080717T000000Z
X-MICROSOFT-CDO-ALLDAYEVENT:FALSE
SUMMARY:Open House hosted by CenTrust Bank
DESCRIPTION:Celebrate the relocation of CenTrust to its new Northbrook location\, while enjoying an evening of networking over appetizers and cocktails. Bring plenty of business cards for an opportunity to win $500 in a special game of skill. The winner will receive $250 cash and $250 for their favorite charity.
X-ALT-DESC;FMTTYPE=text/html:<div><span style="font-size: 12pt"><font size="2">Celebrate the relocation of CenTrust to its new Northbrook location\, while enjoying an evening of networking over appetizers and cocktails.&nbsp\;Bring plenty of business cards for an opportunity to win $500 in a special game of skill.&nbsp\;The winner will receive $250 cash and $250 for their favorite charity.</font></span></div>
LOCATION:CenTrust Bank385 Waukegan Rd.
UID:e.355.737
SEQUENCE:3
DTSTAMP:20260424T195806Z
URL:https://business.northbrookchamber.org/events/details/open-house-hosted-by-centrust-bank-07-16-2008-737
END:VEVENT

END:VCALENDAR
