BEGIN:VCALENDAR
VERSION:2.0
PRODID:-//ChamberMaster//Event Calendar 2.0//EN
METHOD:PUBLISH
X-PUBLISHED-TTL:P3D
REFRESH-INTERVAL:P3D
CALSCALE:GREGORIAN
BEGIN:VEVENT
DTSTART:20090515T150000Z
DTEND:20090515T200000Z
X-MICROSOFT-CDO-ALLDAYEVENT:FALSE
SUMMARY:North Shore Women's Conference & Expo
DESCRIPTION:Friday\, May 15\n10:00 a.m.   3:00 p.m.Holiday Inn North Shore\, Skokie \nNo charge for the Expo/$25 lunchHosted by Buffalo Grove\, DBR\, Des Plaines\, Evanston\, Glencoe\, Glenview\, Highland Park\, Lake Forest/Lake Bluff\, Lincolnshire\, Lincolnwood\, Niles\, Northbrook\, Northfield\, Morton Grove\, Skokie\, Wilmette and Winnetka ChambersOver 400 attendees are expected to attend this extremely popular North Shore women's business expo and lunch\, with participation from 17 area Chambers. Check out exhibits of over 75 women-owned businesses and businesses that cater to women with plenty of giveaways and raffle prizes. The Expo will be complimented with a networking luncheon\, featuring keynote speaker Beverly Chana who will address the topic\, "Body Language: Your Body Speaks Volumes Without Ever Saying A Word." Chana\, a partner with Franke & Associates\, has 30 years of experience in human capital development. Immediately following Chana's presentation\, luncheon attendees will be divided into groups for three rotations of networking.Call Maggie at the Chamber office\, 847-498-5555 to make a reservation for the luncheon or for exhibitor information.
X-ALT-DESC;FMTTYPE=text/html:<div><span lang="EN"><p align="justify"><font size="2">Friday\, May 15<br /></font><font size="2">10:00 a.m. &ndash\; 3:00 p.m.</font></p><p align="justify"><font size="2">Holiday Inn North Shore\, Skokie&nbsp\;<br /></font><font size="2">No charge for the Expo/$25 lunch</font></p><em><p align="justify"><font size="2">Hosted by Buffalo Grove\, DBR\, Des Plaines\, Evanston\, Glencoe\, Glenview\, Highland Park\, Lake Forest/Lake Bluff\, Lincolnshire\, Lincolnwood\, Niles\, Northbrook\, Northfield\, Morton Grove\, Skokie\, Wilmette and Winnetka Chambers</font></p></em><p align="justify"><font size="2">Over 400 attendees are expected to attend this extremely popular North Shore women&rsquo\;s business expo and lunch\, with participation from 17 area Chambers. Check out exhibits of over 75 women-owned businesses and businesses that cater to women with plenty of giveaways and raffle prizes. </font></p><p align="justify"><font size="2">The Expo will be complimented with a networking luncheon\, featuring keynote speaker Beverly Chana who will address the topic\, &quot\;Body Language: Your Body Speaks Volumes Without Ever Saying A Word.&quot\; Chana\, a partner with Franke &amp\; Associates\, has 30 years of experience in human capital development. </font></p><p align="justify"><font size="2">Immediately following Chana&rsquo\;s presentation\, luncheon attendees will be divided into groups for three rotations of networking.</font></p><p align="justify"><font size="2">Call Maggie at the Chamber office\, 847-498-5555 to make a reservation for the luncheon or for exhibitor information.</font></p></span></div>
LOCATION:Holiday Inn North Shore 5300 Toughy Ave.\, Skokie
UID:e.355.1211
SEQUENCE:3
DTSTAMP:20260424T081701Z
URL:https://business.northbrookchamber.org/events/details/north-shore-women-s-conference-expo-05-15-2009-1211
END:VEVENT

END:VCALENDAR
