BEGIN:VCALENDAR
VERSION:2.0
PRODID:-//ChamberMaster//Event Calendar 2.0//EN
METHOD:PUBLISH
X-PUBLISHED-TTL:P3D
REFRESH-INTERVAL:P3D
CALSCALE:GREGORIAN
BEGIN:VEVENT
DTSTART:20090122T174500Z
DTEND:20090122T191500Z
X-MICROSOFT-CDO-ALLDAYEVENT:FALSE
SUMMARY:New Member Luncheon
DESCRIPTION:Open to new and prospective members. Registration requiredWith a broad range of benefits and opportunities\, Chamber membership can be exciting\, yet overwhelming. Designed to help new Chamber members\, this program includes helpful information about making the most of your membership. Any member who joined between October and January\, as well as their company employees\, are invited to attend the lunch. Prospective members are also invited to attend and learn more about the Chamber.With helpful input from the staff and some insights on networking techniques\, the lunch will answer any and all of your questions about specific Chamber membership programs and policies and give you plenty of helpful guidance for how to network\, introduce yourself\, market your business and take advantage of opportunities to promote your business. Each attendee will have an opportunity to give an in-depth introduction and description of their business. There will be plenty of time for questions and answers and networking with fellow new members. New Chamber members are encouraged to call Membership and Marketing Director Mike Sullivan at (847)498-5555 ext. 205 to RSVP for the lunch.
X-ALT-DESC;FMTTYPE=text/html:<p align="justify"><font size="2">Open to new and prospective members. Registration required</font></p><p align="justify"><font size="2">With a broad range of benefits and opportunities\, Chamber membership can be exciting\, yet overwhelming. Designed to help new Chamber members\, this program includes helpful information about making the most of your membership. Any member who joined between October and January\, as well as their company employees\, are invited to attend the lunch. Prospective members are also invited to attend and learn more about the Chamber.</font></p><p align="justify"><font size="2">With helpful input from the staff and some insights on networking techniques\, the lunch will answer any and all of your questions about specific Chamber membership programs and policies and give you plenty of helpful guidance for how to network\, introduce yourself\, market your business and take advantage of opportunities to promote your business. </font></p><p align="justify"><font size="2">Each attendee will have an opportunity to give an in-depth introduction and description of their business. There will be plenty of time for questions and answers and networking with fellow new members. </font></p><p><font size="2">New Chamber members are encouraged to call Membership and Marketing Director Mike Sullivan at (847)498-5555 ext. 205 to RSVP for the lunch. </font></p>
LOCATION:Northbrook Chamber Office 2002 Walters Ave.
UID:e.355.769
SEQUENCE:3
DTSTAMP:20260424T124503Z
URL:https://business.northbrookchamber.org/events/details/new-member-luncheon-01-22-2009-769
END:VEVENT

END:VCALENDAR
