BEGIN:VCALENDAR
VERSION:2.0
PRODID:-//ChamberMaster//Event Calendar 2.0//EN
METHOD:PUBLISH
X-PUBLISHED-TTL:P3D
REFRESH-INTERVAL:P3D
CALSCALE:GREGORIAN
BEGIN:VEVENT
DTSTART:20090903T044500Z
DTEND:20090902T181500Z
X-MICROSOFT-CDO-ALLDAYEVENT:FALSE
SUMMARY:New Member Lunch
DESCRIPTION:With a broad range benefits and opportunities\, Chamber membership can be exciting\, yet overwhelming. New members are invited to this informative lunch to learn how to tap into all that the Chamber has to offer. At the session\, the staff will explain the networking events\, the advertising and marketing opportunities and the advocacy role of the Chamber. Other topics covered will be how to take advantage of the Chamber's website Hot Deals and job postings and how to better generate referrals with your listing. John Martin\, Sandler Training\, will also provide helpful tips on how to effectively network with fellow Chamber members. There will be plenty of time for questions and answers. Call Mike Sullivan at (847)498-5555 for reservations
X-ALT-DESC;FMTTYPE=text/html:<div><span lang="EN"><font size="2" face="Century Old Style Std"><font size="2" face="Century Old Style Std"><p align="justify">&nbsp\;<span style="font-size: small"><span style="font-family: Arial">With a broad range benefits and opportunities\, Chamber membership can be exciting\, yet overwhelming. New members are invited to this informative lunch to learn how to tap into all that the Chamber has to offer. At the session\, the staff will explain the networking events\, the advertising and marketing opportunities and the advocacy role of the Chamber. Other topics covered will be how to take advantage of the Chamber&rsquo\;s website Hot Deals and job postings and how to better generate referrals with your listing. John Martin\, Sandler Training\, will also provide helpful tips on how to effectively network with fellow Chamber members. There will be plenty of time for questions and answers. Call Mike Sullivan at (847)498-5555 for reservations</span></span></p></font></font></span></div>
LOCATION:Chamber Office2002 Walters Ave.
UID:e.355.1236
SEQUENCE:3
DTSTAMP:20260422T170344Z
URL:https://business.northbrookchamber.org/events/details/new-member-lunch-09-02-2009-1236
END:VEVENT

END:VCALENDAR
