BEGIN:VCALENDAR
VERSION:2.0
PRODID:-//ChamberMaster//Event Calendar 2.0//EN
METHOD:PUBLISH
X-PUBLISHED-TTL:P3D
REFRESH-INTERVAL:P3D
CALSCALE:GREGORIAN
BEGIN:VEVENT
DTSTART:20100128T174500Z
DTEND:20100128T191500Z
X-MICROSOFT-CDO-ALLDAYEVENT:FALSE
SUMMARY:New Member Lunch
DESCRIPTION:With a broad range of benefits and opportunities available through the Chamber\, membership can be exciting yet overwhelming. To learn how to tap into all that the Chamber has to offer\, new and prospective members are invited to attend this informative lunch. At the session the staff will elaborate on the monthly networking events\, referral services\, advertising and marketing opportunities and the advocacy role of the Chamber and answer any questions. John Martin\, Sandler Training\, will also provide helpful pointers on how to effectively network with fellow Chamber members\, including memorable introductions at networking events. Other topics covered will be: how to take advantage of Hot Deals and job postings on the website and how to better generate referrals with your listing. Please call Mike Sullivan at (847)498-5555 to make reservations for the lunch.
X-ALT-DESC;FMTTYPE=text/html:<div><span lang="EN"><p align="justify"><span style="font-size: small"><span style="font-family: Arial">With a broad range of benefits and opportunities available through the Chamber\, membership can be exciting yet overwhelming. To learn how to tap into all that the Chamber has to offer\, new and prospective members are invited to attend this informative lunch. At the session the staff will elaborate on the monthly networking events\, referral services\, advertising and marketing opportunities and the advocacy role of the Chamber and answer any questions. John Martin\, Sandler Training\, will also provide helpful pointers on how to effectively network with fellow Chamber members\, including memorable introductions at networking events. Other topics covered will be: how to take advantage of Hot Deals and job postings on the website and how to better generate referrals with your listing. Please call Mike Sullivan at (847)498-5555 to make reservations for the lunch.</span></span></p></span></div>
LOCATION:Chamber Office2002 Walters Ave.
UID:e.355.1255
SEQUENCE:3
DTSTAMP:20260422T111627Z
URL:https://business.northbrookchamber.org/events/details/new-member-lunch-01-28-2010-1255
END:VEVENT

END:VCALENDAR
