BEGIN:VCALENDAR
VERSION:2.0
PRODID:-//ChamberMaster//Event Calendar 2.0//EN
METHOD:PUBLISH
X-PUBLISHED-TTL:P3D
REFRESH-INTERVAL:P3D
CALSCALE:GREGORIAN
BEGIN:VEVENT
DTSTART:20090325T044500Z
DTEND:20090324T181500Z
X-MICROSOFT-CDO-ALLDAYEVENT:FALSE
SUMMARY:Networking Skills Workshop
DESCRIPTION:Networking can be an effective method to grow your business   provided your networking method is effective. In this challenging economy\, more and more businesses are turning to networking events but often don't take advantage of the opportunities that are presented to them. At this workshop\, participants will learn from business development expert John Martin how attitude can affect productivity\, how to set specific outcomes and goals to make networking more rewarding\, how to develop and fine-tune your 'elevator speech\,' how to develop alliances\, give and get introductions and referrals and how to develop the next step with prospective clients. Whether new to networking or a veteran\, all Chamber members will benefit from this informative program.
X-ALT-DESC;FMTTYPE=text/html:<div><span lang="EN"><p align="justify"><font size="2">Networking can be an effective method to grow your business &ndash\; provided your networking method is effective. In this challenging economy\, more and more businesses are turning to networking events but often don&rsquo\;t take advantage of the opportunities that are presented to them. At this workshop\, participants will learn from business development expert John Martin how attitude can affect productivity\, how to set specific outcomes and goals to make networking more rewarding\, how to develop and fine-tune your &lsquo\;elevator speech\,&rsquo\; how to develop alliances\, give and get introductions and referrals and how to develop the next step with prospective clients. Whether new to networking or a veteran\, all Chamber members will benefit from this informative program.</font></p></span></div>
LOCATION:Chamber Office 2002 Walters Avenue
UID:e.355.776
SEQUENCE:3
DTSTAMP:20260424T103319Z
URL:https://business.northbrookchamber.org/events/details/networking-skills-workshop-03-24-2009-776
END:VEVENT

END:VCALENDAR
