BEGIN:VCALENDAR
VERSION:2.0
PRODID:-//ChamberMaster//Event Calendar 2.0//EN
METHOD:PUBLISH
X-PUBLISHED-TTL:P3D
REFRESH-INTERVAL:P3D
CALSCALE:GREGORIAN
BEGIN:VEVENT
DTSTART:20200827T170000Z
DTEND:20200827T183000Z
X-MICROSOFT-CDO-ALLDAYEVENT:FALSE
SUMMARY:Multi Chamber Networking Zoom
DESCRIPTION:Structured Networking with business people from area Chambers of Commerce: Buffalo Grove/Lincolnshire\, Deerfield/Bannockburn/Riverwoods\, Des Plaines\, Edgebrook/Sauganash\, Evanston\, Glencoe\, Glenview\, Highland Park\, LGBTCC\, Lincolnwood\, Morton Grove\, Niles\, Northbrook\, Park Ridge\, Skokie\, Uptown\, Wilmette/Kenilworth and Winnetka/Northfield.\n\n\n\nYou'll have an opportunity to meet and chat with people from a variety of industries. Join us and grow your network.\n\n\n\nAfter introductions these will be the topics for conversation in our breakout rooms:\n\n	What Does Your Company Do?\n	What Makes You or Your Company Unique?\n	You Should Do Business With Me Because \n	A Good Business Lead For Me Is .
X-ALT-DESC;FMTTYPE=text/html:<span style="font-family:arial\,sans-serif\;"><span style="font-size:12.0pt\;">Structured Networking with business people from area Chambers of Commerce: Buffalo Grove/Lincolnshire\, Deerfield/Bannockburn/Riverwoods\, Des Plaines\, Edgebrook/Sauganash\, Evanston\, Glencoe\, Glenview\, Highland Park\, LGBTCC\, Lincolnwood\, Morton Grove\, Niles\, Northbrook\, Park Ridge\, Skokie\, Uptown\, Wilmette/Kenilworth and Winnetka/Northfield.</span></span><br />\n<br />\n<span style="font-family:arial\,sans-serif\;"><span style="font-size:12.0pt\;">You&rsquo\;ll have an opportunity to meet and chat with people from a variety of industries. Join us and grow your network.<br />\n<br />\nAfter introductions these will be the topics for conversation in our breakout rooms:</span></span>\n<ul>\n	<li><span style="color:black\;"><span style="font-family:arial\,sans-serif\;">What Does Your Company Do?</span></span></li>\n	<li style="font-variant-ligatures:normal\;font-variant-caps:normal\;orphans:2\;text-align:start\;widows:2\;-webkit-text-stroke-width:0px\;text-decoration-style:initial\;word-spacing:0px\;"><span style="color:black\;"><span style="font-family:arial\,sans-serif\;">What Makes You or Your Company Unique?</span></span></li>\n	<li style="font-variant-ligatures:normal\;font-variant-caps:normal\;orphans:2\;text-align:start\;widows:2\;-webkit-text-stroke-width:0px\;text-decoration-style:initial\;word-spacing:0px\;"><span style="color:black\;"><span style="font-family:arial\,sans-serif\;">You Should Do Business With Me Because&hellip\;</span></span></li>\n	<li style="font-variant-ligatures:normal\;font-variant-caps:normal\;orphans:2\;text-align:start\;widows:2\;-webkit-text-stroke-width:0px\;text-decoration-style:initial\;word-spacing:0px\;"><span style="color:black\;"><span style="font-family:arial\,sans-serif\;">A Good Business Lead For Me Is&hellip\;.</span></span></li>\n</ul>\n
LOCATION:Zoom from your favorite place! Home or office or ?
UID:e.355.3835
SEQUENCE:3
DTSTAMP:20260422T165920Z
URL:https://business.northbrookchamber.org/events/details/multi-chamber-networking-zoom-3835
END:VEVENT

END:VCALENDAR
