BEGIN:VCALENDAR
VERSION:2.0
PRODID:-//ChamberMaster//Event Calendar 2.0//EN
METHOD:PUBLISH
X-PUBLISHED-TTL:P3D
REFRESH-INTERVAL:P3D
CALSCALE:GREGORIAN
BEGIN:VEVENT
DTSTART:20070425T123000Z
DTEND:20070425T140000Z
X-MICROSOFT-CDO-ALLDAYEVENT:FALSE
SUMMARY:Multi-Chamber Networking Events: Multi-Chamber Breakfast
DESCRIPTION:Multiply your networking opportunities by eight\, by participating in the "Connect 8" Multi-Chamber networking breakfast hosted with the DBR\, Glenview\, Morton Grove\, Northbrook\, Northfield\, SKokie\, Wilmette and Winnetka Chambers.   The event will feature a "progressive" networking format\, where paritcipants will be mached up with the types of business owners they are most interested in meeting.  Enjoy a quick continental breakfast\, followed by two sessions in which participants will break into small groups\, giving each individual the opportunity to present his or her business.  The session will end with open networking to schedule follow-up meetings or to meet with other participants.    Registration must be received by April 13th and paid in advance\; no walk-ins allowed.     Cost is $10 for Chamber members\; $15 for non-members.  Call the Chamber office to obtain the form which must be filled out in order to register: (847)498-5555 ext. 205
X-ALT-DESC;FMTTYPE=text/html:Multiply your networking opportunities by eight\, by participating in the "Connect 8" Multi-Chamber networking breakfast hosted with the DBR\, Glenview\, Morton Grove\, Northbrook\, Northfield\, SKokie\, Wilmette and Winnetka Chambers.   The event will feature a "progressive" networking format\, where paritcipants will be mached up with the types of business owners they are most interested in meeting.  Enjoy a quick continental breakfast\, followed by two sessions in which participants will break into small groups\, giving each individual the opportunity to present his or her business.  The session will end with open networking to schedule follow-up meetings or to meet with other participants.    Registration must be received by April 13th and paid in advance\; no walk-ins allowed.     Cost is $10 for Chamber members\; $15 for non-members.  Call the Chamber office to obtain the form which must be filled out in order to register: (847)498-5555 ext. 205
LOCATION:
UID:e.355.250
SEQUENCE:3
DTSTAMP:20260425T133922Z
URL:https://business.northbrookchamber.org/events/details/multi-chamber-networking-events-multi-chamber-breakfast-04-25-2007-250
END:VEVENT

END:VCALENDAR
