BEGIN:VCALENDAR
VERSION:2.0
PRODID:-//ChamberMaster//Event Calendar 2.0//EN
METHOD:PUBLISH
X-PUBLISHED-TTL:P3D
REFRESH-INTERVAL:P3D
CALSCALE:GREGORIAN
BEGIN:VEVENT
DTSTART:20090128T133000Z
DTEND:20090128T150000Z
X-MICROSOFT-CDO-ALLDAYEVENT:FALSE
SUMMARY:Multi-Chamber Networking Breakfast 1/28/2009
DESCRIPTION:Multiply your networking potential with ten other Chambers: DBR\, Evanston\, Glenview\, Glencoe\, Morton Grove\, Northfield\, Skokie\, Wheeling/Prospect Heights\, Wilmette and Winnetka. Members looking for a productive networking experience will enjoy the structured format of this program\, which gives each participant an opportunity to speak about his/her company's products and services. Following a hot buffet breakfast\, participants will be divided into small groups at assigned tables where everyone will give a two minute presentation on their business. Table assignments will begin promptly at 7:45 a.m. Latecomers risk losing their space to another participant and will need to check into the "Late Registration Table." Everyone will be given a contact list of pre-registered participants.Table sponsorships are available for $35\, which includes company sign on a table with room for brochures. For more information\, or to register your attendance\, call Mike Sullivan at (847)498-5555 ext. 205.
X-ALT-DESC;FMTTYPE=text/html:<p align="justify"><font size="2">Multiply your networking potential with ten other Chambers: DBR\, Evanston\, Glenview\, Glencoe\, Morton Grove\, Northfield\, Skokie\, Wheeling/Prospect Heights\, Wilmette and Winnetka. Members looking for a productive networking experience will enjoy the structured format of this program\, which gives each participant an opportunity to speak about his/her company&rsquo\;s products and services. </font></p><p align="justify"><font size="2">Following a hot buffet breakfast\, participants will be divided into small groups at assigned tables where everyone will give a two minute presentation on their business. Table assignments will begin promptly at 7:45 a.m. Latecomers risk losing their space to another participant and will need to check into the &quot\;Late Registration Table.&quot\; Everyone will be given a contact list of pre-registered participants.</font></p><p><font size="2">Table sponsorships are available for $35\, which includes company sign on a table with room for brochures. For more information\, or to register your attendance\, call Mike Sullivan at (847)498-5555 ext. 205.</font></p>
LOCATION:Double Tree Hotel & Conference Center9599 Skokie Blvd.\, Skokie
UID:e.355.766
SEQUENCE:3
DTSTAMP:20260424T124443Z
URL:https://business.northbrookchamber.org/events/details/multi-chamber-networking-breakfast-1-28-2009-01-28-2009-766
END:VEVENT

END:VCALENDAR
