BEGIN:VCALENDAR
VERSION:2.0
PRODID:-//ChamberMaster//Event Calendar 2.0//EN
METHOD:PUBLISH
X-PUBLISHED-TTL:P3D
REFRESH-INTERVAL:P3D
CALSCALE:GREGORIAN
BEGIN:VEVENT
DTSTART:20080528T123000Z
DTEND:20080528T140000Z
X-MICROSOFT-CDO-ALLDAYEVENT:FALSE
SUMMARY:Multi-Chamber Networking Breakfast
DESCRIPTION:Chamber members will have a chance to expand their networking opportunities and promote their businesses by nine at this multi-Chamber event. Members looking for a productive networking experience will enjoy the structured format of this program\, which gives each participant an opportunity to speak to a receptive audience about his/her company's products and services.            The event will begin with informal networking over a continental breakfast. After that the group will be divided into small groups at assigned tables where everyone will give two minute presentations on their business. Following will be an additional presentation to a second group of participants. Please note that networking will begin promptly at 7:45 a.m. In addition\, all participants will receive a contact list of all pre-registered participants.
X-ALT-DESC;FMTTYPE=text/html:<div style="margin: 0in 0in 0pt"><span style="font-size: 11pt"><font size="2">Chamber members will have a chance to expand their networking opportunities and promote their businesses by nine at this multi-Chamber event.&nbsp\;Members looking for a productive networking experience will enjoy the structured format of this program\, which gives each participant an opportunity to speak to a receptive audience about his/her company&rsquo\;s products and services.</font></span></div><div style="margin: 0in 0in 0pt"><font size="2">&nbsp\;&nbsp\;&nbsp\;&nbsp\;&nbsp\;&nbsp\;&nbsp\;&nbsp\;&nbsp\;&nbsp\;&nbsp\; The event will begin with informal networking over a continental breakfast.&nbsp\;After that the group will be divided into small groups at assigned tables where everyone will give two minute presentations on their business.&nbsp\;Following will be an additional presentation to a second group of participants.&nbsp\;Please note that networking will begin promptly at 7:45 a.m.&nbsp\;In addition\, all participants will receive a contact list of all pre-registered participants.</font></div>
LOCATION:Doubletree Hotel and Conference Center9599 Skokie Blvd.\, Skokie
UID:e.355.724
SEQUENCE:3
DTSTAMP:20260424T220657Z
URL:https://business.northbrookchamber.org/events/details/multi-chamber-networking-breakfast-05-28-2008-724
END:VEVENT

END:VCALENDAR
