BEGIN:VCALENDAR
VERSION:2.0
PRODID:-//ChamberMaster//Event Calendar 2.0//EN
METHOD:PUBLISH
X-PUBLISHED-TTL:P3D
REFRESH-INTERVAL:P3D
CALSCALE:GREGORIAN
BEGIN:VEVENT
DTSTART:20100120T133000Z
DTEND:20100120T153000Z
X-MICROSOFT-CDO-ALLDAYEVENT:FALSE
SUMMARY:Multi-Chamber ''Mega Networking'' Breakfast
DESCRIPTION:Multiply your networking potential with 14 other Chambers: Chicago Area Gay and Lesbian\, DBR\, Des Plaines\, Evanston\, Glencoe\, Glenview\, Highland Park\, Mt. Prospect\, Niles\, Northfield\, Park Ridge\, Skokie\, Wilmette and Winnetka. Members looking for a productive networking experience will enjoy the structured format of this program\, which gives each participant an opportunity to speak about his/her company's products and services. Following a hot buffet breakfast\, participants will be divided into small groups at assigned tables where everyone will give a 2 minute presentation on their business\, with an opportunity for a presentation to a second group of participants. Everyone will be given a contact list of pre-registered participants. Table sponsorships are available for $35\, which includes company sign on a table with room for brochures. To register your attendance\, callMike Sullivan at (847)498-5555 ext. 1
X-ALT-DESC;FMTTYPE=text/html:<div><span lang="EN"><p align="justify"><span style="font-size: x-small"><span style="font-family: Arial">Multiply your networking potential with 14 other Chambers: Chicago Area Gay and Lesbian\, DBR\, Des Plaines\, Evanston\, Glencoe\, Glenview\, Highland Park\, Mt. Prospect\, Niles\, Northfield\, Park Ridge\, Skokie\, Wilmette and Winnetka. Members looking for a productive networking experience will enjoy the structured format of this program\, which gives each participant an opportunity to speak about his/her company&rsquo\;s products and services. Following a hot buffet breakfast\, participants will be divided into small groups at assigned tables where everyone will give a 2 minute presentation on their business\, with an opportunity for a presentation to a second group of participants. Everyone will be given a contact list of pre-registered participants. </span></span></p><p><span style="font-size: x-small"><span style="font-family: Arial">Table sponsorships are available for $35\, which includes company sign on a table with room for brochures. To register your attendance\, call<a href="mailto:mike@northbrookchamber.org">Mike Sullivan </a>at (847)498-5555 ext. 1</span></span></p></span></div>
LOCATION:Doubletree Hotel and Conference Center9599 Skokie Blvd.\, Skokie
UID:e.355.1254
SEQUENCE:3
DTSTAMP:20260422T111415Z
URL:https://business.northbrookchamber.org/events/details/multi-chamber-mega-networking-breakfast-01-20-2010-1254
END:VEVENT

END:VCALENDAR
