BEGIN:VCALENDAR
VERSION:2.0
PRODID:-//ChamberMaster//Event Calendar 2.0//EN
METHOD:PUBLISH
X-PUBLISHED-TTL:P3D
REFRESH-INTERVAL:P3D
CALSCALE:GREGORIAN
BEGIN:VEVENT
DTSTART:20070321T164500Z
DTEND:20070321T181500Z
X-MICROSOFT-CDO-ALLDAYEVENT:FALSE
SUMMARY:Monthly Luncheon: The Sunset Foods Brand of Customer Service
DESCRIPTION:Customer service is the bread and butter of every business.  But knowing how to keep customer service at the forefront can be a challenge.  Is what works for one company good for another?  Are there secrets for communicating your customer service philosophy to your customers?  How do you get your staff to buy into the customer service focus?  Learn from the foot of the master\, Ron Bernardi\, Sunset Foods\, who will offer tips and suggestions for how to develop and manage a customer service philosophy for your business.  Bernardi and Sunset Foods are known for the attention to customer service\, serving over 20\,000 shoppers at their store every week.   There will be plenty of time for questions and answers at this lively\, informative lunch program.
X-ALT-DESC;FMTTYPE=text/html:Customer service is the bread and butter of every business.  But knowing how to keep customer service at the forefront can be a challenge.  Is what works for one company good for another?  Are there secrets for communicating your customer service philosophy to your customers?  How do you get your staff to buy into the customer service focus?  Learn from the foot of the master\, Ron Bernardi\, Sunset Foods\, who will offer tips and suggestions for how to develop and manage a customer service philosophy for your business.  Bernardi and Sunset Foods are known for the attention to customer service\, serving over 20\,000 shoppers at their store every week.   There will be plenty of time for questions and answers at this lively\, informative lunch program.
LOCATION:
UID:e.355.241
SEQUENCE:3
DTSTAMP:20260425T150441Z
URL:https://business.northbrookchamber.org/events/details/monthly-luncheon-the-sunset-foods-brand-of-customer-service-03-21-2007-241
END:VEVENT

END:VCALENDAR
