BEGIN:VCALENDAR
VERSION:2.0
PRODID:-//ChamberMaster//Event Calendar 2.0//EN
METHOD:PUBLISH
X-PUBLISHED-TTL:P3D
REFRESH-INTERVAL:P3D
CALSCALE:GREGORIAN
BEGIN:VEVENT
DTSTART:20061025T164500Z
DTEND:20061025T181500Z
X-MICROSOFT-CDO-ALLDAYEVENT:FALSE
SUMMARY:Monthly Luncheon: October 2006 - Gene Marks lunch
DESCRIPTION:
X-ALT-DESC;FMTTYPE=text/html:
LOCATION:
UID:e.355.225
SEQUENCE:3
DTSTAMP:20260425T210834Z
URL:https://business.northbrookchamber.org/events/details/monthly-luncheon-october-2006-gene-marks-lunch-10-25-2006-225
END:VEVENT

END:VCALENDAR
